BEGIN:VCALENDAR
VERSION:2.0
PRODID:-//Ipswich Wanderers FC - ECPv6.2.2//NONSGML v1.0//EN
CALSCALE:GREGORIAN
METHOD:PUBLISH
X-ORIGINAL-URL:https://ipswichwanderers.co.uk
X-WR-CALDESC:Events for Ipswich Wanderers FC
REFRESH-INTERVAL;VALUE=DURATION:PT1H
X-Robots-Tag:noindex
X-PUBLISHED-TTL:PT1H
BEGIN:VTIMEZONE
TZID:Europe/London
BEGIN:DAYLIGHT
TZOFFSETFROM:+0000
TZOFFSETTO:+0100
TZNAME:BST
DTSTART:20230326T010000
END:DAYLIGHT
BEGIN:STANDARD
TZOFFSETFROM:+0100
TZOFFSETTO:+0000
TZNAME:GMT
DTSTART:20231029T010000
END:STANDARD
END:VTIMEZONE
BEGIN:VEVENT
DTSTART;TZID=Europe/London:20230826T150000
DTEND;TZID=Europe/London:20230826T170000
DTSTAMP:20260423T140312
CREATED:20230716T135954Z
LAST-MODIFIED:20230801T200624Z
UID:10000004-1693062000-1693069200@ipswichwanderers.co.uk
SUMMARY:IWFC Vs Heybridge Swifts
DESCRIPTION:The Wanderers continue their home fixtures with the visit of the well known ‘Swifts’.
URL:https://ipswichwanderers.co.uk/event/iwfc-vs-braintree-town-copy-copy/
LOCATION:GBS Stadium\, Humber Doucy Lane\, Ipswich\, Suffolk\, IP4 3NR
CATEGORIES:Isthmian League North
GEO:52.0643195;1.204386
X-APPLE-STRUCTURED-LOCATION;VALUE=URI;X-ADDRESS=GBS Stadium Humber Doucy Lane Ipswich Suffolk IP4 3NR;X-APPLE-RADIUS=500;X-TITLE=Humber Doucy Lane:geo:1.204386,52.0643195
END:VEVENT
BEGIN:VEVENT
DTSTART;TZID=Europe/London:20230812T150000
DTEND;TZID=Europe/London:20230812T170000
DTSTAMP:20260423T140312
CREATED:20230716T135057Z
LAST-MODIFIED:20230801T200709Z
UID:10000003-1691852400-1691859600@ipswichwanderers.co.uk
SUMMARY:IWFC Vs Walthamstow
DESCRIPTION:The first Isthmian league match for the newly promoted Wanderers as we welcome our first ever step 4 league opponents from East London.
URL:https://ipswichwanderers.co.uk/event/iwfc-vs-braintree-town-copy/
LOCATION:GBS Stadium\, Humber Doucy Lane\, Ipswich\, Suffolk\, IP4 3NR
CATEGORIES:Isthmian League North
GEO:52.0643195;1.204386
X-APPLE-STRUCTURED-LOCATION;VALUE=URI;X-ADDRESS=GBS Stadium Humber Doucy Lane Ipswich Suffolk IP4 3NR;X-APPLE-RADIUS=500;X-TITLE=Humber Doucy Lane:geo:1.204386,52.0643195
END:VEVENT
BEGIN:VEVENT
DTSTART;TZID=Europe/London:20230805T150000
DTEND;TZID=Europe/London:20230805T170000
DTSTAMP:20260423T140312
CREATED:20230705T190254Z
LAST-MODIFIED:20230801T200752Z
UID:10000002-1691247600-1691254800@ipswichwanderers.co.uk
SUMMARY:IWFC Vs Histon (FA Cup Extra Prelim Round)
DESCRIPTION:
URL:https://ipswichwanderers.co.uk/event/iwfc-vs-braintree-town/
LOCATION:GBS Stadium\, Humber Doucy Lane\, Ipswich\, Suffolk\, IP4 3NR
CATEGORIES:FA Cup
GEO:52.0643195;1.204386
X-APPLE-STRUCTURED-LOCATION;VALUE=URI;X-ADDRESS=GBS Stadium Humber Doucy Lane Ipswich Suffolk IP4 3NR;X-APPLE-RADIUS=500;X-TITLE=Humber Doucy Lane:geo:1.204386,52.0643195
END:VEVENT
BEGIN:VEVENT
DTSTART;TZID=Europe/London:20230722T080000
DTEND;TZID=Europe/London:20230722T170000
DTSTAMP:20260423T140312
CREATED:20230704T222109Z
LAST-MODIFIED:20230704T222109Z
UID:10000001-1690012800-1690045200@ipswichwanderers.co.uk
SUMMARY:Name of Event Goes Here
DESCRIPTION:Enter Your Description Here
URL:https://ipswichwanderers.co.uk/event/name-of-event-goes-here/
LOCATION:GBS Stadium\, Humber Doucy Lane\, Ipswich\, Suffolk\, IP4 3NR
GEO:52.0643195;1.204386
X-APPLE-STRUCTURED-LOCATION;VALUE=URI;X-ADDRESS=GBS Stadium Humber Doucy Lane Ipswich Suffolk IP4 3NR;X-APPLE-RADIUS=500;X-TITLE=Humber Doucy Lane:geo:1.204386,52.0643195
END:VEVENT
END:VCALENDAR